BEGIN:VCALENDAR
VERSION:2.0
PRODID:-//Bisong Art Gallery - ECPv6.15.20//NONSGML v1.0//EN
CALSCALE:GREGORIAN
METHOD:PUBLISH
X-WR-CALNAME:Bisong Art Gallery
X-ORIGINAL-URL:https://bisonggallery.com
X-WR-CALDESC:Events for Bisong Art Gallery
REFRESH-INTERVAL;VALUE=DURATION:PT1H
X-Robots-Tag:noindex
X-PUBLISHED-TTL:PT1H
BEGIN:VTIMEZONE
TZID:America/Chicago
BEGIN:DAYLIGHT
TZOFFSETFROM:-0600
TZOFFSETTO:-0500
TZNAME:CDT
DTSTART:20250309T080000
END:DAYLIGHT
BEGIN:STANDARD
TZOFFSETFROM:-0500
TZOFFSETTO:-0600
TZNAME:CST
DTSTART:20251102T070000
END:STANDARD
BEGIN:DAYLIGHT
TZOFFSETFROM:-0600
TZOFFSETTO:-0500
TZNAME:CDT
DTSTART:20260308T080000
END:DAYLIGHT
BEGIN:STANDARD
TZOFFSETFROM:-0500
TZOFFSETTO:-0600
TZNAME:CST
DTSTART:20261101T070000
END:STANDARD
BEGIN:DAYLIGHT
TZOFFSETFROM:-0600
TZOFFSETTO:-0500
TZNAME:CDT
DTSTART:20270314T080000
END:DAYLIGHT
BEGIN:STANDARD
TZOFFSETFROM:-0500
TZOFFSETTO:-0600
TZNAME:CST
DTSTART:20271107T070000
END:STANDARD
END:VTIMEZONE
BEGIN:VEVENT
DTSTART;TZID=America/Chicago:20260430T180000
DTEND;TZID=America/Chicago:20260430T210000
DTSTAMP:20260424T054524
CREATED:20260325T190557Z
LAST-MODIFIED:20260415T190752Z
UID:8036-1777572000-1777582800@bisonggallery.com
SUMMARY:STROKES OF BRILLIANCE : A Celebration of Art\, Voice & the Differently Abled Mind
DESCRIPTION:THE VISION \nSome of the most extraordinary art being made right now is coming from artists the world hasn’t fully paid attention to yet. Strokes of Brilliance is here to change that.  \nOn April 30th\, Gabriel’s Horn Foundation invites you to an evening at Bisong Art Gallery  where original works\, created by young artists on the Autism Spectrum are available to  purchase directly off the wall.  \nThese are artists whose minds work differently. Who see differently. Who create  differently. And that’s not the asterisk on their work. That is their work.  \nEvery stroke in this show was made by someone who experiences the world in a way  most of us never will. This is year one of what Gabriel’s Horn Foundation intends to  grow into an annual celebration of young artists during Autism Awareness Month.  \n  \nDATE Thursday\, April 30\, 2026  \nTIME 6 – 9 PM  \nVENUE Bisong Art Gallery\, Houston\, TX  \nPRESENTED BY Gabriel’s Horn Foundation  \n  \n  \nA PREMIUM GALLERY EXPERIENCE. OPEN TO EVERYONE. \nStrokes of Brilliance is warm\, celebratory\, and designed from the ground up to put  the artists at the center of everything. The evening includes:  \n◆ A curated gallery exhibition  \nOriginal works by young emerging artists on the Autism Spectrum\, available for  purchase that evening.  \n◆ Live silent auction  \nEvery piece on display is available to purchase that night\, as well as a   \nselection of other highly desirable auction items.  \n◆ Digital auction platform  \nSimultaneous remote bidding for supporters who can’t attend in person.  \n◆ Artist introductions  \nPersonal moments connecting collectors directly to the creators and the   \nstories behind the work.  \n◆ Live performance  \nA performance by the HUBCAPS — an incredible band of differently abled  musicians.  \n◆ Food\, drinks & atmosphere  \nUpscale in feel\, welcoming in spirit.  \nThis is year one of what Gabriel’s Horn Foundation intends to grow into an annual celebration  of young artists & their extraordinary work during Autism Awareness Month.  \n  \nWHERE THE PROCEEDS GO \nA portion of proceeds returns directly to the featured artists because their work  deserves to generate real income\, not just applause.  \nThe remainder supports arts programming at HUB Houston\, a school and post-graduate  program serving students on the Autism Spectrum\, and the community where Gabriel  and his fellow artists continue to grow and create.  \nArt made with purpose. Proceeds that flow back to fuel more of it.  \n  \nGET INVOLVED \nSponsorship Opportunities  \nStrokes of Brilliance marks the beginning of an annual tradition. Those who step in  now become founding supporters of something built to grow in scale\, in visibility\, and  in impact. All contributions are tax-deductible.  \nA full sponsorship deck is provided upon request.  \n  \nDifferently Made. Undeniably Brilliant. \ngabrielshornfoundation.org · info@gabrielshornfoundation.org · Gabriel’s Horn Foundation · 501(c)(3) \nGABRIEL’S HORN FOUNDATION · HOUSTON\, TEXAS
URL:https://bisonggallery.com/event/strokes-of-brilliance-a-celebration-of-art-voice-the-differently-abled-mind/
LOCATION:Bisong Art Gallery\, 1305 Sterret St.\, Houston\, TX\, 77002\, United States
ATTACH;FMTTYPE=image/jpeg:https://bisonggallery.com/wp-content/uploads/2026/03/IMG_6350.jpg
END:VEVENT
END:VCALENDAR